BEGIN:VCALENDAR
VERSION:2.0
PRODID:-//TheNote//NONSGML kigkonsult.se iCalcreator 2.30.10//
CALSCALE:GREGORIAN
METHOD:PUBLISH
UID:93858356-ca10-4413-90fc-1cd06c03d84f
X-WR-CALNAME:iCagenda
X-WR-CALDESC:Event Management Extension for Joomla!
X-WR-RELCALID:3E26604A-50F4-4449-8B3E-E4F4932D05B5
X-WR-TIMEZONE:Europe/Berlin
BEGIN:VTIMEZONE
TZID:Europe/Berlin
BEGIN:STANDARD
TZNAME:CET
DTSTART:20231029T030000
TZOFFSETFROM:+0200
TZOFFSETTO:+0100
RDATE:20241027T030000
END:STANDARD
BEGIN:DAYLIGHT
TZNAME:CEST
DTSTART:20230326T020000
TZOFFSETFROM:+0100
TZOFFSETTO:+0200
RDATE:20240331T020000
RDATE:20250330T020000
END:DAYLIGHT
END:VTIMEZONE
BEGIN:VEVENT
UID:36aa7c60-a579-4044-93c0-db809e775dc4
DTSTAMP:20260422T081015Z
CATEGORIES:Events
CLASS:PUBLIC
DESCRIPTION;ALTREP="CID:<FFFF__=0ABBE548DFE235B58f9e8a93d@coffeebean.com>":
 ♥️ V A L E N T I N S T A G ♥️\nHeute schon an #Valentinstag denken… Liebe 
 geht ja bekanntlich durch den Magen und daher laden wir zu einem unvergess
 lichen Candle Light Dinner am 14. Februar 2023 bei uns im note Café | Even
 thaus ein. 🤩n&nbsp\;\nGenießt in gemütlicher Atmosphäre euren Begrüßungs-S
 ecco 🥂und habt einen tollen Abend bei einem leckeren 3-Gang Menü inkl.\nde
 n passenden Weinen zu jedem Gang und einem köstlichen Dessert. 🍮nbsp\;\n&n
 bsp\;\n18.30 Uhr gehts los und der Preis liegt bei 69€ für zwei Personen. 
 💕n&nbsp\;\nP.S 🤫Das wäre sicher auch ein schönes Weihnachtsgeschenk! 🤫n&nb
 sp\;\nReservierungen nehmen wir ab sofort entgegen. 🤗nbsp\;\nDie Plätze si
 nd wie immer begrenzt.\n&nbsp\;\nWir freuen uns auf einen tollen Abend!
DTSTART:20240214T173000Z
DTEND:20240214T213000Z
GEO:00;0
LOCATION:
ORGANIZER:
SEQUENCE:1
SUMMARY:Candle Light Dinner
TRANSP:OPAQUE
URL:https://the-note.de/index.php/events/16-valentinstag/2024-02-14-18-30
END:VEVENT
END:VCALENDAR
